Package: ClusterJudge Version: 1.30.0 Command: rm -rf ClusterJudge.buildbin-libdir && mkdir ClusterJudge.buildbin-libdir && /Users/biocbuild/BBS/utils/build-universal.sh ClusterJudge_1.30.0.tar.gz /Library/Frameworks/R.framework/Resources/bin/R ClusterJudge.buildbin-libdir StartedAt: 2025-10-14 13:04:29 -0400 (Tue, 14 Oct 2025) EndedAt: 2025-10-14 13:04:40 -0400 (Tue, 14 Oct 2025) EllapsedTime: 11.8 seconds RetCode: 0 Status: OK PackageFile: ClusterJudge_1.30.0.tgz PackageFileSize: 4.393 MiB