Package: ClusterJudge Version: 1.30.0 Command: /home/biocbuild/R/R/bin/R CMD INSTALL ClusterJudge StartedAt: 2025-10-13 20:22:48 -0000 (Mon, 13 Oct 2025) EndedAt: 2025-10-13 20:22:53 -0000 (Mon, 13 Oct 2025) EllapsedTime: 5.2 seconds RetCode: 0 Status: OK