Package: ClusterJudge Version: 1.30.0 Command: /Library/Frameworks/R.framework/Resources/bin/R CMD INSTALL ClusterJudge StartedAt: 2025-10-13 15:31:48 -0400 (Mon, 13 Oct 2025) EndedAt: 2025-10-13 15:31:54 -0400 (Mon, 13 Oct 2025) EllapsedTime: 5.3 seconds RetCode: 0 Status: OK