Package: ClusterFoldSimilarity Version: 1.4.0 Command: /home/biocbuild/R/R/bin/R CMD INSTALL ClusterFoldSimilarity StartedAt: 2025-10-13 20:35:49 -0000 (Mon, 13 Oct 2025) EndedAt: 2025-10-13 20:36:41 -0000 (Mon, 13 Oct 2025) EllapsedTime: 52.6 seconds RetCode: 0 Status: OK