Package: ClusterFoldSimilarity Version: 1.4.0 Command: /home/biocbuild/R/R/bin/R CMD build --keep-empty-dirs --no-resave-data ClusterFoldSimilarity StartedAt: 2025-10-13 23:41:05 -0000 (Mon, 13 Oct 2025) EndedAt: 2025-10-13 23:58:00 -0000 (Mon, 13 Oct 2025) EllapsedTime: 1015.3 seconds RetCode: 0 Status: OK PackageFile: ClusterFoldSimilarity_1.4.0.tar.gz PackageFileSize: 1.472 MiB