Package: ClustIRR Version: 1.6.0 Command: /home/biocbuild/R/R/bin/R CMD build --keep-empty-dirs --no-resave-data ClustIRR StartedAt: 2025-10-13 23:42:03 -0000 (Mon, 13 Oct 2025) EndedAt: 2025-10-13 23:50:18 -0000 (Mon, 13 Oct 2025) EllapsedTime: 495.2 seconds RetCode: 0 Status: OK PackageFile: ClustIRR_1.6.0.tar.gz PackageFileSize: 3.83 MiB