Package: ClustIRR Version: 1.6.0 Command: /Library/Frameworks/R.framework/Resources/bin/R CMD INSTALL ClustIRR StartedAt: 2025-10-13 15:23:11 -0400 (Mon, 13 Oct 2025) EndedAt: 2025-10-13 15:25:57 -0400 (Mon, 13 Oct 2025) EllapsedTime: 166.0 seconds RetCode: 0 Status: OK