Package: ClustIRR Version: 1.6.0 Command: rm -rf ClustIRR.buildbin-libdir && mkdir ClustIRR.buildbin-libdir && /Users/biocbuild/BBS/utils/build-universal.sh ClustIRR_1.6.0.tar.gz /Library/Frameworks/R.framework/Resources/bin/R ClustIRR.buildbin-libdir StartedAt: 2025-10-15 17:54:16 -0400 (Wed, 15 Oct 2025) EndedAt: 2025-10-15 17:57:20 -0400 (Wed, 15 Oct 2025) EllapsedTime: 184.0 seconds RetCode: 0 Status: OK PackageFile: ClustIRR_1.6.0.tgz PackageFileSize: 4.862 MiB