Package: Clomial Version: 1.44.0 Command: /home/biocbuild/R/R/bin/R CMD INSTALL Clomial StartedAt: 2025-10-13 20:14:31 -0000 (Mon, 13 Oct 2025) EndedAt: 2025-10-13 20:15:00 -0000 (Mon, 13 Oct 2025) EllapsedTime: 28.9 seconds RetCode: 0 Status: OK