Package: Clomial Version: 1.44.0 Command: /Library/Frameworks/R.framework/Resources/bin/R CMD build --keep-empty-dirs --no-resave-data Clomial StartedAt: 2025-10-13 21:25:38 -0400 (Mon, 13 Oct 2025) EndedAt: 2025-10-13 21:25:58 -0400 (Mon, 13 Oct 2025) EllapsedTime: 19.9 seconds RetCode: 0 Status: OK PackageFile: Clomial_1.44.0.tar.gz PackageFileSize: 1.461 MiB