Package: CleanUpRNAseq Version: 1.2.0 Command: /home/biocbuild/bbs-3.21-bioc/R/bin/R CMD INSTALL CleanUpRNAseq StartedAt: 2025-10-15 16:00:02 -0400 (Wed, 15 Oct 2025) EndedAt: 2025-10-15 16:00:47 -0400 (Wed, 15 Oct 2025) EllapsedTime: 45.1 seconds RetCode: 0 Status: OK