Package: CleanUpRNAseq Version: 1.2.0 Command: /home/biocbuild/bbs-3.21-bioc/R/bin/R CMD build --keep-empty-dirs --no-resave-data CleanUpRNAseq StartedAt: 2025-10-15 16:46:02 -0400 (Wed, 15 Oct 2025) EndedAt: 2025-10-15 16:47:26 -0400 (Wed, 15 Oct 2025) EllapsedTime: 84.1 seconds RetCode: 0 Status: OK PackageFile: CleanUpRNAseq_1.2.0.tar.gz PackageFileSize: 2.409 MiB