Package: CleanUpRNAseq Version: 1.2.0 Command: /home/biocbuild/R/R/bin/R CMD build --keep-empty-dirs --no-resave-data CleanUpRNAseq StartedAt: 2025-10-13 23:38:25 -0000 (Mon, 13 Oct 2025) EndedAt: 2025-10-13 23:40:57 -0000 (Mon, 13 Oct 2025) EllapsedTime: 151.6 seconds RetCode: 0 Status: OK PackageFile: CleanUpRNAseq_1.2.0.tar.gz PackageFileSize: 2.412 MiB