Package: ClassifyR Version: 3.12.5 Command: /home/biocbuild/bbs-3.21-bioc/R/bin/R CMD build --keep-empty-dirs --no-resave-data ClassifyR StartedAt: 2025-10-15 16:45:42 -0400 (Wed, 15 Oct 2025) EndedAt: 2025-10-15 16:47:35 -0400 (Wed, 15 Oct 2025) EllapsedTime: 113.1 seconds RetCode: 0 Status: OK PackageFile: ClassifyR_3.12.5.tar.gz PackageFileSize: 2.412 MiB