Package: ClassifyR Version: 3.12.5 Command: rm -rf ClassifyR.buildbin-libdir && mkdir ClassifyR.buildbin-libdir && /Users/biocbuild/BBS/utils/build-universal.sh ClassifyR_3.12.5.tar.gz /Library/Frameworks/R.framework/Resources/bin/R ClassifyR.buildbin-libdir StartedAt: 2025-10-14 13:03:32 -0400 (Tue, 14 Oct 2025) EndedAt: 2025-10-14 13:05:23 -0400 (Tue, 14 Oct 2025) EllapsedTime: 111.4 seconds RetCode: 0 Status: OK PackageFile: ClassifyR_3.12.5.tgz PackageFileSize: 2.545 MiB