Package: ClassifyR Version: 3.12.5 Command: /home/biocbuild/R/R/bin/R CMD INSTALL ClassifyR StartedAt: 2025-10-13 20:42:59 -0000 (Mon, 13 Oct 2025) EndedAt: 2025-10-13 20:43:49 -0000 (Mon, 13 Oct 2025) EllapsedTime: 50.5 seconds RetCode: 0 Status: OK