Package: ClassifyR Version: 3.12.5 Command: /home/biocbuild/R/R/bin/R CMD build --keep-empty-dirs --no-resave-data ClassifyR StartedAt: 2025-10-13 23:38:02 -0000 (Mon, 13 Oct 2025) EndedAt: 2025-10-13 23:41:00 -0000 (Mon, 13 Oct 2025) EllapsedTime: 177.6 seconds RetCode: 0 Status: OK PackageFile: ClassifyR_3.12.5.tar.gz PackageFileSize: 2.311 MiB