Package: CircSeqAlignTk Version: 1.10.0 Command: /home/biocbuild/R/R/bin/R CMD build --keep-empty-dirs --no-resave-data CircSeqAlignTk StartedAt: 2025-10-13 23:37:28 -0000 (Mon, 13 Oct 2025) EndedAt: 2025-10-13 23:40:39 -0000 (Mon, 13 Oct 2025) EllapsedTime: 190.6 seconds RetCode: 0 Status: OK PackageFile: CircSeqAlignTk_1.10.0.tar.gz PackageFileSize: 1.754 MiB