Package: CircSeqAlignTk Version: 1.10.0 Command: rm -rf CircSeqAlignTk.buildbin-libdir && mkdir CircSeqAlignTk.buildbin-libdir && /Users/biocbuild/BBS/utils/build-universal.sh CircSeqAlignTk_1.10.0.tar.gz /Library/Frameworks/R.framework/Resources/bin/R CircSeqAlignTk.buildbin-libdir StartedAt: 2025-10-15 17:51:54 -0400 (Wed, 15 Oct 2025) EndedAt: 2025-10-15 17:52:53 -0400 (Wed, 15 Oct 2025) EllapsedTime: 58.7 seconds RetCode: 0 Status: OK PackageFile: CircSeqAlignTk_1.10.0.tgz PackageFileSize: 1.977 MiB