Package: ChromSCape Version: 1.18.0 Command: /home/biocbuild/bbs-3.21-bioc/R/bin/R CMD INSTALL ChromSCape StartedAt: 2025-10-15 15:54:44 -0400 (Wed, 15 Oct 2025) EndedAt: 2025-10-15 15:55:36 -0400 (Wed, 15 Oct 2025) EllapsedTime: 52.2 seconds RetCode: 0 Status: OK