Package: ChromSCape Version: 1.18.0 Command: /home/biocbuild/R/R/bin/R CMD INSTALL ChromSCape StartedAt: 2025-10-13 21:15:07 -0000 (Mon, 13 Oct 2025) EndedAt: 2025-10-13 21:16:23 -0000 (Mon, 13 Oct 2025) EllapsedTime: 76.3 seconds RetCode: 0 Status: OK