Package: ChromSCape Version: 1.18.0 Command: /home/biocbuild/R/R/bin/R CMD build --keep-empty-dirs --no-resave-data ChromSCape StartedAt: 2025-10-13 23:36:39 -0000 (Mon, 13 Oct 2025) EndedAt: 2025-10-13 23:38:20 -0000 (Mon, 13 Oct 2025) EllapsedTime: 101.0 seconds RetCode: 0 Status: OK PackageFile: ChromSCape_1.18.0.tar.gz PackageFileSize: 5.326 MiB