Package: ChromHeatMap Version: 1.62.0 Command: /Library/Frameworks/R.framework/Resources/bin/R CMD build --keep-empty-dirs --no-resave-data ChromHeatMap StartedAt: 2025-10-13 17:53:47 -0400 (Mon, 13 Oct 2025) EndedAt: 2025-10-13 17:55:32 -0400 (Mon, 13 Oct 2025) EllapsedTime: 105.6 seconds RetCode: 0 Status: OK PackageFile: ChromHeatMap_1.62.0.tar.gz PackageFileSize: 317.7 KiB