Package: ChromHeatMap Version: 1.62.0 Command: rm -rf ChromHeatMap.buildbin-libdir && mkdir ChromHeatMap.buildbin-libdir && /Users/biocbuild/BBS/utils/build-universal.sh ChromHeatMap_1.62.0.tar.gz /Library/Frameworks/R.framework/Resources/bin/R ChromHeatMap.buildbin-libdir StartedAt: 2025-10-15 17:50:35 -0400 (Wed, 15 Oct 2025) EndedAt: 2025-10-15 17:51:21 -0400 (Wed, 15 Oct 2025) EllapsedTime: 46.1 seconds RetCode: 0 Status: OK PackageFile: ChromHeatMap_1.62.0.tgz PackageFileSize: 675.6 KiB