Package: ChemmineR Version: 3.60.0 Command: /home/biocbuild/R/R/bin/R CMD INSTALL ChemmineR StartedAt: 2025-10-13 20:23:10 -0000 (Mon, 13 Oct 2025) EndedAt: 2025-10-13 20:23:49 -0000 (Mon, 13 Oct 2025) EllapsedTime: 38.5 seconds RetCode: 0 Status: OK