Package: ChIPsim Version: 1.62.0 Command: /home/biocbuild/bbs-3.21-bioc/R/bin/R CMD INSTALL ChIPsim StartedAt: 2025-10-15 15:50:18 -0400 (Wed, 15 Oct 2025) EndedAt: 2025-10-15 15:50:47 -0400 (Wed, 15 Oct 2025) EllapsedTime: 29.3 seconds RetCode: 0 Status: OK