Package: ChIPsim Version: 1.62.0 Command: /home/biocbuild/bbs-3.21-bioc/R/bin/R CMD build --keep-empty-dirs --no-resave-data ChIPsim StartedAt: 2025-10-15 16:43:56 -0400 (Wed, 15 Oct 2025) EndedAt: 2025-10-15 16:45:02 -0400 (Wed, 15 Oct 2025) EllapsedTime: 66.1 seconds RetCode: 0 Status: OK PackageFile: ChIPsim_1.62.0.tar.gz PackageFileSize: 647.1 KiB