Package: ChIPsim Version: 1.62.0 Command: /home/biocbuild/R/R/bin/R CMD INSTALL ChIPsim StartedAt: 2025-10-13 21:09:01 -0000 (Mon, 13 Oct 2025) EndedAt: 2025-10-13 21:09:42 -0000 (Mon, 13 Oct 2025) EllapsedTime: 41.0 seconds RetCode: 0 Status: OK