Package: ChIPsim Version: 1.62.0 Command: /home/biocbuild/R/R/bin/R CMD build --keep-empty-dirs --no-resave-data ChIPsim StartedAt: 2025-10-13 23:35:07 -0000 (Mon, 13 Oct 2025) EndedAt: 2025-10-13 23:36:47 -0000 (Mon, 13 Oct 2025) EllapsedTime: 100.0 seconds RetCode: 0 Status: OK PackageFile: ChIPsim_1.62.0.tar.gz PackageFileSize: 636.9 KiB