Package: ChIPsim Version: 1.62.0 Command: /Library/Frameworks/R.framework/Resources/bin/R CMD build --keep-empty-dirs --no-resave-data ChIPsim StartedAt: 2025-10-13 21:06:48 -0400 (Mon, 13 Oct 2025) EndedAt: 2025-10-13 21:08:07 -0400 (Mon, 13 Oct 2025) EllapsedTime: 79.1 seconds RetCode: 0 Status: OK PackageFile: ChIPsim_1.62.0.tar.gz PackageFileSize: 648 KiB