Package: ChIPseqR Version: 1.62.0 Command: /home/biocbuild/R/R/bin/R CMD INSTALL ChIPseqR StartedAt: 2025-10-13 21:09:58 -0000 (Mon, 13 Oct 2025) EndedAt: 2025-10-13 21:10:48 -0000 (Mon, 13 Oct 2025) EllapsedTime: 49.8 seconds RetCode: 0 Status: OK