Package: ChIPseqR Version: 1.62.0 Command: /home/biocbuild/R/R/bin/R CMD build --keep-empty-dirs --no-resave-data ChIPseqR StartedAt: 2025-10-13 23:35:02 -0000 (Mon, 13 Oct 2025) EndedAt: 2025-10-13 23:36:51 -0000 (Mon, 13 Oct 2025) EllapsedTime: 109.0 seconds RetCode: 0 Status: OK PackageFile: ChIPseqR_1.62.0.tar.gz PackageFileSize: 721.5 KiB