Package: ChIPexoQual Version: 1.32.0 Command: /home/biocbuild/R/R/bin/R CMD build --keep-empty-dirs --no-resave-data ChIPexoQual StartedAt: 2025-10-13 23:34:19 -0000 (Mon, 13 Oct 2025) EndedAt: 2025-10-13 23:38:02 -0000 (Mon, 13 Oct 2025) EllapsedTime: 223.1 seconds RetCode: 0 Status: OK PackageFile: ChIPexoQual_1.32.0.tar.gz PackageFileSize: 2.298 MiB