Package: ChIPanalyser Version: 1.30.0 Command: /home/biocbuild/R/R/bin/R CMD build --keep-empty-dirs --no-resave-data ChIPanalyser StartedAt: 2025-10-13 23:33:32 -0000 (Mon, 13 Oct 2025) EndedAt: 2025-10-13 23:53:18 -0000 (Mon, 13 Oct 2025) EllapsedTime: 1186.0 seconds RetCode: 0 Status: OK PackageFile: ChIPanalyser_1.30.0.tar.gz PackageFileSize: 995 KiB