Package: ChIPXpress Version: 1.52.0 Command: /home/biocbuild/R/R/bin/R CMD INSTALL ChIPXpress StartedAt: 2025-10-13 21:20:17 -0000 (Mon, 13 Oct 2025) EndedAt: 2025-10-13 21:20:59 -0000 (Mon, 13 Oct 2025) EllapsedTime: 42.9 seconds RetCode: 0 Status: OK