Package: ChIPXpress Version: 1.52.0 Command: /home/biocbuild/R/R/bin/R CMD build --keep-empty-dirs --no-resave-data ChIPXpress StartedAt: 2025-10-13 23:35:18 -0000 (Mon, 13 Oct 2025) EndedAt: 2025-10-13 23:36:39 -0000 (Mon, 13 Oct 2025) EllapsedTime: 81.0 seconds RetCode: 0 Status: OK PackageFile: ChIPXpress_1.52.0.tar.gz PackageFileSize: 441.1 KiB