Package: ChIPComp Version: 1.38.0 Command: chmod a+r ChIPComp -R && E:\biocbuild\bbs-3.21-bioc\R\bin\R.exe CMD build --keep-empty-dirs --no-resave-data ChIPComp StartedAt: 2025-08-14 18:00:50 -0400 (Thu, 14 Aug 2025) EndedAt: 2025-08-14 18:02:03 -0400 (Thu, 14 Aug 2025) EllapsedTime: 73.2 seconds RetCode: 0 Status: OK PackageFile: ChIPComp_1.38.0.tar.gz PackageFileSize: 595.9 KiB