Package: ChIPComp Version: 1.38.0 Command: /home/biocbuild/bbs-3.21-bioc/R/bin/R CMD build --keep-empty-dirs --no-resave-data ChIPComp StartedAt: 2025-10-15 16:43:01 -0400 (Wed, 15 Oct 2025) EndedAt: 2025-10-15 16:43:53 -0400 (Wed, 15 Oct 2025) EllapsedTime: 52.1 seconds RetCode: 0 Status: OK PackageFile: ChIPComp_1.38.0.tar.gz PackageFileSize: 597.3 KiB