Package: ChIPComp Version: 1.38.0 Command: /Library/Frameworks/R.framework/Resources/bin/R CMD build --keep-empty-dirs --no-resave-data ChIPComp StartedAt: 2025-10-13 17:50:54 -0400 (Mon, 13 Oct 2025) EndedAt: 2025-10-13 17:52:55 -0400 (Mon, 13 Oct 2025) EllapsedTime: 121.0 seconds RetCode: 0 Status: OK PackageFile: ChIPComp_1.38.0.tar.gz PackageFileSize: 596.5 KiB