Package: ChIPComp Version: 1.38.0 Command: /home/biocbuild/R/R/bin/R CMD INSTALL ChIPComp StartedAt: 2025-10-13 20:49:45 -0000 (Mon, 13 Oct 2025) EndedAt: 2025-10-13 20:50:29 -0000 (Mon, 13 Oct 2025) EllapsedTime: 43.7 seconds RetCode: 0 Status: OK