Package: ChIPComp Version: 1.38.0 Command: /home/biocbuild/R/R/bin/R CMD build --keep-empty-dirs --no-resave-data ChIPComp StartedAt: 2025-10-13 23:33:50 -0000 (Mon, 13 Oct 2025) EndedAt: 2025-10-13 23:35:07 -0000 (Mon, 13 Oct 2025) EllapsedTime: 77.0 seconds RetCode: 0 Status: OK PackageFile: ChIPComp_1.38.0.tar.gz PackageFileSize: 590.5 KiB