Package: ChAMP Version: 2.38.1 Command: /home/biocbuild/R/R/bin/R CMD build --keep-empty-dirs --no-resave-data ChAMP StartedAt: 2025-10-13 23:32:25 -0000 (Mon, 13 Oct 2025) EndedAt: 2025-10-13 23:35:18 -0000 (Mon, 13 Oct 2025) EllapsedTime: 173.1 seconds RetCode: 0 Status: OK PackageFile: ChAMP_2.38.1.tar.gz PackageFileSize: 7.946 MiB