Package: CexoR Version: 1.46.0 Command: /home/biocbuild/R/R/bin/R CMD INSTALL CexoR StartedAt: 2025-10-13 20:52:28 -0000 (Mon, 13 Oct 2025) EndedAt: 2025-10-13 20:53:21 -0000 (Mon, 13 Oct 2025) EllapsedTime: 52.9 seconds RetCode: 0 Status: OK