Package: CexoR Version: 1.46.0 Command: /home/biocbuild/R/R/bin/R CMD build --keep-empty-dirs --no-resave-data CexoR StartedAt: 2025-10-13 23:31:07 -0000 (Mon, 13 Oct 2025) EndedAt: 2025-10-13 23:32:35 -0000 (Mon, 13 Oct 2025) EllapsedTime: 88.0 seconds RetCode: 0 Status: OK PackageFile: CexoR_1.46.0.tar.gz PackageFileSize: 1.651 MiB