Package: CellTrails Version: 1.26.0 Command: /home/biocbuild/bbs-3.21-bioc/R/bin/R CMD INSTALL CellTrails StartedAt: 2025-10-15 15:18:03 -0400 (Wed, 15 Oct 2025) EndedAt: 2025-10-15 15:18:32 -0400 (Wed, 15 Oct 2025) EllapsedTime: 28.8 seconds RetCode: 0 Status: OK