Package: CellTrails Version: 1.26.0 Command: /home/biocbuild/R/R/bin/R CMD build --keep-empty-dirs --no-resave-data CellTrails StartedAt: 2025-10-13 23:28:45 -0000 (Mon, 13 Oct 2025) EndedAt: 2025-10-13 23:29:42 -0000 (Mon, 13 Oct 2025) EllapsedTime: 57.0 seconds RetCode: 0 Status: OK PackageFile: CellTrails_1.26.0.tar.gz PackageFileSize: 2.625 MiB