Package: CellTrails Version: 1.26.0 Command: /Library/Frameworks/R.framework/Resources/bin/R CMD INSTALL CellTrails StartedAt: 2025-10-13 16:10:36 -0400 (Mon, 13 Oct 2025) EndedAt: 2025-10-13 16:11:11 -0400 (Mon, 13 Oct 2025) EllapsedTime: 34.8 seconds RetCode: 0 Status: OK