Package: CellScore Version: 1.28.0 Command: /Library/Frameworks/R.framework/Resources/bin/R CMD INSTALL CellScore StartedAt: 2025-10-13 15:34:09 -0400 (Mon, 13 Oct 2025) EndedAt: 2025-10-13 15:34:53 -0400 (Mon, 13 Oct 2025) EllapsedTime: 43.7 seconds RetCode: 0 Status: OK