Package: CellScore Version: 1.28.0 Command: /Library/Frameworks/R.framework/Resources/bin/R CMD build --keep-empty-dirs --no-resave-data CellScore StartedAt: 2025-10-13 17:44:41 -0400 (Mon, 13 Oct 2025) EndedAt: 2025-10-13 17:52:31 -0400 (Mon, 13 Oct 2025) EllapsedTime: 470.2 seconds RetCode: 1 Status: ERROR PackageFile: None PackageFileSize: NA