Package: CellScore Version: 1.28.0 Command: /home/biocbuild/R/R/bin/R CMD INSTALL CellScore StartedAt: 2025-10-13 20:31:29 -0000 (Mon, 13 Oct 2025) EndedAt: 2025-10-13 20:31:58 -0000 (Mon, 13 Oct 2025) EllapsedTime: 29.3 seconds RetCode: 0 Status: OK